BEGIN:VCALENDAR
PRODID:-//eluceo/ical//2.0/EN
VERSION:2.0
CALSCALE:GREGORIAN
BEGIN:VEVENT
UID:6270d82de76ee0fcbcec4d8012283e6e
DTSTAMP:20260420T171242Z
SUMMARY:Temple Beth Sholom Rosh Hashanah Children's Service open to the pub
 lic
DESCRIPTION:Jewish Federation & Foundation of Rockland County\nCommunity Ca
 lendar\nhttps://jewishrockland.org/calendar/TBS-rosh-hashanah-childrens-se
 rvice-open-to-the-public-2016\n\nTemple Beth Sholom of New City welcomes a
 ll children accompanied by an adult to our Rosh Hashanah Children's Servic
 e. Come hear the sounds of the shofar .
DTSTART;TZID=America/New_York:20161003T143000
DTEND;TZID=America/New_York:20161003T154500
END:VEVENT
END:VCALENDAR
