BEGIN:VCALENDAR
PRODID:-//eluceo/ical//2.0/EN
VERSION:2.0
CALSCALE:GREGORIAN
BEGIN:VEVENT
UID:16e09949432d67bccb804d85db0ee4f4
DTSTAMP:20260420T201633Z
SUMMARY:Wish Makers Film Screening to Benefit Jawonio
DESCRIPTION:Jewish Federation & Foundation of Rockland County\nCommunity Ca
 lendar\nhttps://jewishrockland.org/calendar/Wish-makers-film-screening-jaw
 onio-israel-bonds-244291\n\nIsrael Bonds Rockland in partnership with Jawo
 nio presents "Wish Makers\," the story of the Tulip Winery that was establ
 ished in a residential adult special needs community.\n\n\nWine & Cheese R
 eception\nRemarks by Jill A. Warner\, CEO\, Jawonio\nFilm screening\nQ&A s
 ession with Cheryl Halpern\, Film Producer & Director\nDessert (dietary la
 ws observed)\n\n\nRSVP to Janice Wertheim: janice.wertheim@israelbonds.com
 \n\nEvent Chair: Sharon Sasson\n\nRockland Israel Bonds Chair: Cathy Diste
 lberge...
DTSTART;TZID=America/New_York:20171214T190000
DTEND;TZID=America/New_York:20171214T210000
END:VEVENT
END:VCALENDAR
