BEGIN:VCALENDAR
PRODID:-//eluceo/ical//2.0/EN
VERSION:2.0
CALSCALE:GREGORIAN
BEGIN:VEVENT
UID:fa1d0df87d6ea7c720fbcd9a0bd1d615
DTSTAMP:20260420T011441Z
SUMMARY:A Big Taste of Israel
DESCRIPTION:Jewish Federation & Foundation of Rockland County\nCommunity Ca
 lendar\nhttps://jewishrockland.org/calendar/a-big-taste-of-israel\n\nA Big
  Taste of Israel
DTSTART;TZID=America/New_York:20130509T180000
DTEND;TZID=America/New_York:20130509T183000
END:VEVENT
END:VCALENDAR
