BEGIN:VCALENDAR
PRODID:-//eluceo/ical//2.0/EN
VERSION:2.0
CALSCALE:GREGORIAN
BEGIN:VEVENT
UID:6cd7f204ecb4da4ad0d07006979b2025
DTSTAMP:20260426T020006Z
SUMMARY:A Community Conversation on Co-Occurring Disorders
DESCRIPTION:Jewish Federation & Foundation of Rockland County\nCommunity Ca
 lendar\nhttps://jewishrockland.org/calendar/a-community-conversation-on-co
 -occurring-disorders-1551194621\n\nSponsored by CODA\, the harris project\
 , Montebello Jewish Center\,  Reform Temple of Rockland\, Nanuet Hebrew Ce
 nter\, CSI Nyack and Orangetown Jewish Center.
DTSTART;TZID=America/New_York:20190303T103000
DTEND;TZID=America/New_York:20190303T120000
END:VEVENT
END:VCALENDAR
