BEGIN:VCALENDAR
PRODID:-//eluceo/ical//2.0/EN
VERSION:2.0
CALSCALE:GREGORIAN
BEGIN:VEVENT
UID:be69bb58a17150f9da10b170c1b1ef34
DTSTAMP:20260423T065726Z
SUMMARY:A Night of Remembrance
DESCRIPTION:Jewish Federation & Foundation of Rockland County\nCommunity Ca
 lendar\nhttps://jewishrockland.org/calendar/a-night-of-remembrance\n\nJoin
  ADL - Anti-Defamation League and Jewish Federation and Foundation of Rock
 land on Monday 1/10 at 7PM for a night of remembrance in honor of the vict
 ims of the #MonseyStabbing of 12/28/19. We will hold a vigil\, hear from e
 lected officials & community leaders\, have a D'var Torah & learning porti
 on.
DTSTART;TZID=America/New_York:20220110T190000
DTEND;TZID=America/New_York:20220110T200000
END:VEVENT
END:VCALENDAR
