BEGIN:VCALENDAR
PRODID:-//eluceo/ical//2.0/EN
VERSION:2.0
CALSCALE:GREGORIAN
BEGIN:VEVENT
UID:0f573c992be11696314d9f371596fa04
DTSTAMP:20260425T173939Z
SUMMARY:"A Pastor's Journey to Judaism" Featuring Guest Speaker Former Past
 or\, Yaak
DESCRIPTION:Jewish Federation & Foundation of Rockland County\nCommunity Ca
 lendar\nhttps://jewishrockland.org/calendar/a-pastors-journey-to-judaism-f
 eaturing-guest-speaker-former-pastor-yaakov-parisi-7387\n\n"A Pastor's Jou
 rney to Judaism"
DTSTART;TZID=America/New_York:20130522T193000
DTEND;TZID=America/New_York:20130522T210000
END:VEVENT
END:VCALENDAR
