BEGIN:VCALENDAR
PRODID:-//eluceo/ical//2.0/EN
VERSION:2.0
CALSCALE:GREGORIAN
BEGIN:VEVENT
UID:4dd374942e948dfdfdf39aabedd11ee3
DTSTAMP:20260424T160542Z
SUMMARY:A SPOT of Cooking
DESCRIPTION:Jewish Federation & Foundation of Rockland County\nCommunity Ca
 lendar\nhttps://jewishrockland.org/calendar/a-spot-of-cooking\n\nA SPOT of
  Cooking
DTSTART;TZID=America/New_York:20131219T130000
DTEND;TZID=America/New_York:20131219T140000
END:VEVENT
END:VCALENDAR
