BEGIN:VCALENDAR
PRODID:-//eluceo/ical//2.0/EN
VERSION:2.0
CALSCALE:GREGORIAN
BEGIN:VEVENT
UID:0bf430ccce8aa6ee10ba928d2119ee77
DTSTAMP:20260426T000651Z
SUMMARY:A SPOT of Crafts
DESCRIPTION:Jewish Federation & Foundation of Rockland County\nCommunity Ca
 lendar\nhttps://jewishrockland.org/calendar/a-spot-of-crafts\n\nChildren a
 ges 2-5 are invited to enjoy a SPOT ("Siblings and Preschoolers on Thursda
 ys") of crafts with Morah Jenna at RJA!
DTSTART;TZID=America/New_York:20140320T130000
DTEND;TZID=America/New_York:20140320T140000
END:VEVENT
END:VCALENDAR
