BEGIN:VCALENDAR
PRODID:-//eluceo/ical//2.0/EN
VERSION:2.0
CALSCALE:GREGORIAN
BEGIN:VEVENT
UID:e3d6d61d17f93647104bfce3db96156e
DTSTAMP:20260424T022947Z
SUMMARY:A SPOT of Planting
DESCRIPTION:Jewish Federation & Foundation of Rockland County\nCommunity Ca
 lendar\nhttps://jewishrockland.org/calendar/a-spot-of-planting\n\nA SPOT o
 f Planting
DTSTART;TZID=America/New_York:20140116T130000
DTEND;TZID=America/New_York:20140116T140000
END:VEVENT
END:VCALENDAR
