BEGIN:VCALENDAR
PRODID:-//eluceo/ical//2.0/EN
VERSION:2.0
CALSCALE:GREGORIAN
BEGIN:VEVENT
UID:073381ae1e92419521cf6a220abbecf6
DTSTAMP:20260423T095527Z
SUMMARY:Adult Education Class: Yom Ha'Atzmaut
DESCRIPTION:Jewish Federation & Foundation of Rockland County\nCommunity Ca
 lendar\nhttps://jewishrockland.org/calendar/adult-education-class-04-17\n\
 nJoin us at Congregation Shaarey Israel for an engaging Adult Education cl
 ass on the topic of Yom Ha'Atzmaut:\n"An Unthinkable Controversy: Should Y
 om Ha’atzmaut Be A Holiday?"\nTuesday at 7:00pm at Congregation Shaarey 
 Israel\, 18 Montebello Rd. Suffern 10901
DTSTART;TZID=America/New_York:20180417T190000
DTEND;TZID=America/New_York:20180417T210000
END:VEVENT
END:VCALENDAR
