BEGIN:VCALENDAR
PRODID:-//eluceo/ical//2.0/EN
VERSION:2.0
CALSCALE:GREGORIAN
BEGIN:VEVENT
UID:5a4eed79ad3582b3b1ff3d7cb6c8805c
DTSTAMP:20260424T094302Z
SUMMARY:Adult Education "Moral condition of society"
DESCRIPTION:Jewish Federation & Foundation of Rockland County\nCommunity Ca
 lendar\nhttps://jewishrockland.org/calendar/adult-education-moral-conditio
 n-of-society-1426700893-138954\n\nTemple Beth Sholom is offering a two par
 t Adult Education class entitled "Moral Condition of Society". Join Rabbi 
 Brian Leiken and explore this topic. All are welcome. This class is free. 
 Tuesday May 6 and Tuesday May 13 at 7pm
DTSTART;TZID=America/New_York:20150506T190000
DTEND;TZID=America/New_York:20150513T190000
END:VEVENT
END:VCALENDAR
