BEGIN:VCALENDAR
PRODID:-//eluceo/ical//2.0/EN
VERSION:2.0
CALSCALE:GREGORIAN
BEGIN:VEVENT
UID:5a64f99cd2ea1afe0e05e2c260fc0d38
DTSTAMP:20260421T180001Z
SUMMARY:Adventures of a Holocaust Survivor: Then and Now
DESCRIPTION:Jewish Federation & Foundation of Rockland County\nCommunity Ca
 lendar\nhttps://jewishrockland.org/calendar/adventures-of-a-holocaust-surv
 ivor-then-and-now-1442856866\n\n“Adventures of a Holocaust Survivor” \
 nWednesday\, October 7\, 2015\, 7:30 PM\n\nThe National Council of Jewish 
 Women (NCJW)\, Rockland Section presents Paul Galan\, Holocaust survivor a
 nd EMMY award-winning producer and director\, who will share stories about
  the unusual circumstances surrounding his family’s Czechoslovakian hist
 ory during that dark period in war-torn Europe. \n \nThe program starts at
  7:30 PM on Wednesday\, September 9th at Reform Temple of Rockland (former
 ly Temple Beth...
DTSTART;TZID=America/New_York:20151007T073000
DTEND;TZID=America/New_York:20151007T213000
END:VEVENT
END:VCALENDAR
