BEGIN:VCALENDAR
PRODID:-//eluceo/ical//2.0/EN
VERSION:2.0
CALSCALE:GREGORIAN
BEGIN:VEVENT
UID:5b63d1366f24fc4f3f65bf0ec53f0a04
DTSTAMP:20260419T192137Z
SUMMARY:An Evening Honoring the Rebbe's 30th Yahrzeit feat. Rabbi Yehudah K
 rinsky
DESCRIPTION:Jewish Federation & Foundation of Rockland County\nCommunity Ca
 lendar\nhttps://jewishrockland.org/calendar/an-evening-honoring-the-rebbes
 -30th-yahrzeit-feat-rabbi-yehudah-krinsky-1720018270\n\nAn Evening Honorin
 g The Rebbe feat. Rabbi Yehudah Krinsky\n\nOn July 11\, over 19 Jewish com
 munities will gather for an evening of unity\, prayer and music as they ma
 rk 30 years since the passing of the Rebbe — Rabbi Menachem M. Schneerso
 n\, of righteous memory\, the most influential rabbi in modern history. Th
 e event\, “An Evening Honoring The Rebbe”\, will take place at The Son
 esta Hotel in White Plains.\n\nThe event will feature Rabbi Yehudah Krinsk
 y\, the Rebbe's personal secretary for...
DTSTART;TZID=America/New_York:20240711T190000
DTEND;TZID=America/New_York:20240711T213000
END:VEVENT
END:VCALENDAR
