BEGIN:VCALENDAR
PRODID:-//eluceo/ical//2.0/EN
VERSION:2.0
CALSCALE:GREGORIAN
BEGIN:VEVENT
UID:962903e76b5fe23f472357da56c73589
DTSTAMP:20260425T000921Z
SUMMARY:An Evening of Klezmer Music
DESCRIPTION:Jewish Federation & Foundation of Rockland County\nCommunity Ca
 lendar\nhttps://jewishrockland.org/calendar/an-evening-of-klezmer-music-74
 96\n\nKlezmer Music
DTSTART;TZID=America/New_York:20131207T200000
DTEND;TZID=America/New_York:20131207T220000
END:VEVENT
END:VCALENDAR
