BEGIN:VCALENDAR
PRODID:-//eluceo/ical//2.0/EN
VERSION:2.0
CALSCALE:GREGORIAN
BEGIN:VEVENT
UID:262d84bbdc1b912a3ace937b8c872dbf
DTSTAMP:20260421T230032Z
SUMMARY:An Evening with  ESEK
DESCRIPTION:Jewish Federation & Foundation of Rockland County\nCommunity Ca
 lendar\nhttps://jewishrockland.org/calendar/an-evening-with--esek-17322885
 37\n\nSupport Israeli Small Businesses
DTSTART;TZID=America/New_York:20241217T190000
DTEND;TZID=America/New_York:20241217T210000
END:VEVENT
END:VCALENDAR
