BEGIN:VCALENDAR
PRODID:-//eluceo/ical//2.0/EN
VERSION:2.0
CALSCALE:GREGORIAN
BEGIN:VEVENT
UID:191a6c4e9f779e92afb89acabd1a0afa
DTSTAMP:20260424T185635Z
SUMMARY:An Evening with Olympic Gymnast Aly Raisman
DESCRIPTION:Jewish Federation & Foundation of Rockland County\nCommunity Ca
 lendar\nhttps://jewishrockland.org/calendar/an-evening-with-olympic-gymnas
 t-aly-raisman\n\nAn Evening with Olympic Gymnast Aly Raisman
DTSTART;TZID=America/New_York:20130529T180000
DTEND;TZID=America/New_York:20130529T210000
END:VEVENT
END:VCALENDAR
