BEGIN:VCALENDAR
PRODID:-//eluceo/ical//2.0/EN
VERSION:2.0
CALSCALE:GREGORIAN
BEGIN:VEVENT
UID:963f87b4f40fe0d50344c7982a65706a
DTSTAMP:20260422T043923Z
SUMMARY:Anne Frank: A traveling exhibit from the Anne Frank Center USA
DESCRIPTION:Jewish Federation & Foundation of Rockland County\nCommunity Ca
 lendar\nhttps://jewishrockland.org/calendar/anne-frank-traveling-exhibit-a
 nne-frank-center-171249\n\nAnne Frank: A History for Today\nWith a profoun
 d message and theme: The teaching of tolerance through evocative imagery a
 nd text.\nExhibit Opening: November 17 at 8:00 PM\nFeaturing a brief docum
 entary followed by curator talk on Anne’s relationship with her diary an
 d its impact today.
DTSTART;TZID=America/New_York:20151117T200000
DTEND;TZID=America/New_York:20151117T210000
END:VEVENT
END:VCALENDAR
