BEGIN:VCALENDAR
PRODID:-//eluceo/ical//2.0/EN
VERSION:2.0
CALSCALE:GREGORIAN
BEGIN:VEVENT
UID:6d882efdb35f494e5f9774cf3327e06f
DTSTAMP:20260420T073626Z
SUMMARY:Annual Blood Drive: Pikuach Nefesh
DESCRIPTION:Jewish Federation & Foundation of Rockland County\nCommunity Ca
 lendar\nhttps://jewishrockland.org/calendar/annual-blood-drive-pikuach-nef
 esh-63432\n\nPlease join Beth Am Temple in their efforts of "Pikuach Nefes
 h" (save a life) by participating in this annual blood drive.\n\nContact D
 eb Klock to sign up: 914-522-8050 or klocks@aol.com\n\n 
DTSTART;TZID=America/New_York:20140520T153000
DTEND;TZID=America/New_York:20140520T203000
END:VEVENT
END:VCALENDAR
