BEGIN:VCALENDAR
PRODID:-//eluceo/ical//2.0/EN
VERSION:2.0
CALSCALE:GREGORIAN
BEGIN:VEVENT
UID:7cb590510d0ec6b7f435eea149bb5e82
DTSTAMP:20260420T134735Z
SUMMARY:Annual General Meeting
DESCRIPTION:Jewish Federation & Foundation of Rockland County\nCommunity Ca
 lendar\nhttps://jewishrockland.org/calendar/annual-general-meeting-1749216
 942\n\nLight refreshments will be served.\nLocation will be shared with th
 e registrants.
DTSTART;TZID=America/New_York:20250630T190000
DTEND;TZID=America/New_York:20250630T210000
END:VEVENT
END:VCALENDAR
