BEGIN:VCALENDAR
PRODID:-//eluceo/ical//2.0/EN
VERSION:2.0
CALSCALE:GREGORIAN
BEGIN:VEVENT
UID:f76a33275d83e2ed777e936c656073b3
DTSTAMP:20260422T070938Z
SUMMARY:Year-End Celebration\, Graduation and Annual Meeting
DESCRIPTION:Jewish Federation & Foundation of Rockland County\nCommunity Ca
 lendar\nhttps://jewishrockland.org/calendar/annual-meeting-2014\n\nJewish 
 Federation of Rockland Annual Meeting
DTSTART;TZID=America/New_York:20140609T183000
DTEND;TZID=America/New_York:20140609T210000
END:VEVENT
END:VCALENDAR
