BEGIN:VCALENDAR
PRODID:-//eluceo/ical//2.0/EN
VERSION:2.0
CALSCALE:GREGORIAN
BEGIN:VEVENT
UID:7d1291bdcedc98abc606398beb93e135
DTSTAMP:20260424T233219Z
SUMMARY:Annual MLK Shabbat Service at TBS
DESCRIPTION:Jewish Federation & Foundation of Rockland County\nCommunity Ca
 lendar\nhttps://jewishrockland.org/calendar/annual-mlk-shabbat-service-at-
 tbs-1736442706\n\nAnnual MLK Shabbat service at Temple Beth Sholom in New 
 City
DTSTART;TZID=America/New_York:20250124T193000
DTEND;TZID=America/New_York:20250124T210000
END:VEVENT
END:VCALENDAR
