BEGIN:VCALENDAR
PRODID:-//eluceo/ical//2.0/EN
VERSION:2.0
CALSCALE:GREGORIAN
BEGIN:VEVENT
UID:b33e7f9d2f2185c35aebcc5408d6c950
DTSTAMP:20260423T101646Z
SUMMARY:Apple & Honeyfest Open House
DESCRIPTION:Jewish Federation & Foundation of Rockland County\nCommunity Ca
 lendar\nhttps://jewishrockland.org/calendar/apple-honeyfest-open-house-849
 72\n\nFamilies are invited to celebrate the coming new year at Temple Beth
  Torah with a fun-filled morning of activities for all ages. Take part in 
 apple and honey tasting\, crafts and shofar blowing workshops. Sunday Sept
 ember 7th\, 10:00-12:00pm. Temple Beth Torah\, 330 N. Highland Ave (Rte. 9
 W)\, Upper Nyack\, NY. For more information contact TBT at (845) 358-3450 
 or mara@templebethtorah.org
DTSTART;TZID=America/New_York:20140907T100000
DTEND;TZID=America/New_York:20140907T120000
END:VEVENT
END:VCALENDAR
