BEGIN:VCALENDAR
PRODID:-//eluceo/ical//2.0/EN
VERSION:2.0
CALSCALE:GREGORIAN
BEGIN:VEVENT
UID:5d65b3fe62f4ed97933d3abad7a1a3b9
DTSTAMP:20260421T011817Z
SUMMARY:Armchair Tour of Jewish Harlem
DESCRIPTION:Jewish Federation & Foundation of Rockland County\nCommunity Ca
 lendar\nhttps://jewishrockland.org/calendar/armchair-tour-of-jewish-harlem
 -62348\n\nDid you know that before the great black migration from the sout
 h\, Harlem was the third largest Jewish settlement in the world? In a pro
 gram sponsored by National Council of Jewish Women\, Rockland Section\, Ma
 rty Schneit\, a licensed New York City tour guide\, will explain why Jews
  selected to live in Harlem and will discuss many of the prominent indivi
 duals who lived there including Oscar Hammerstein\, Richard Rogers\, Yosel
 le Rosenblatt\, Eric Weiss and Milton Berle. Invite your family and frie..
 .
DTSTART;TZID=America/New_York:20140507T193000
DTEND;TZID=America/New_York:20140507T210000
END:VEVENT
END:VCALENDAR
