BEGIN:VCALENDAR
PRODID:-//eluceo/ical//2.0/EN
VERSION:2.0
CALSCALE:GREGORIAN
BEGIN:VEVENT
UID:ff164fd7e8147b00d4376682c53ff0c0
DTSTAMP:20260421T135937Z
SUMMARY:Art and Torah - New Year Sweetness - Shana Tova u' Metuka
DESCRIPTION:Jewish Federation & Foundation of Rockland County\nCommunity Ca
 lendar\nhttps://jewishrockland.org/calendar/art-and-torah-new-year-sweetne
 ss\n\nCreate Judaica and Study text with Rabbi Drill and Anne Zbar. At thi
 s event we will create apple and honey dishes at Glaze in the Orangetown S
 hopping Center. Materials fee $15.00. Make check out to The Orangetown Jew
 ish Center and Mail to Anne Zbar: 150 Valley Forge Place Orangeburg\, NY 1
 0962
DTSTART;TZID=America/New_York:20140715T120000
DTEND;TZID=America/New_York:20140715T133000
END:VEVENT
END:VCALENDAR
