BEGIN:VCALENDAR
PRODID:-//eluceo/ical//2.0/EN
VERSION:2.0
CALSCALE:GREGORIAN
BEGIN:VEVENT
UID:7055e1619d896d668a113167dfcf7511
DTSTAMP:20260423T065534Z
SUMMARY:Art Auction at CSI
DESCRIPTION:Jewish Federation & Foundation of Rockland County\nCommunity Ca
 lendar\nhttps://jewishrockland.org/calendar/art-auction-at-csi-7334\n\nArt
  Auction at CSI
DTSTART;TZID=America/New_York:20130309T190000
DTEND;TZID=America/New_York:20130309T230000
END:VEVENT
END:VCALENDAR
