BEGIN:VCALENDAR
PRODID:-//eluceo/ical//2.0/EN
VERSION:2.0
CALSCALE:GREGORIAN
BEGIN:VEVENT
UID:4b085d84486baacef6fdcdf4615ed5b9
DTSTAMP:20260421T101056Z
SUMMARY:Art Auction at Temple Beth Sholom
DESCRIPTION:Jewish Federation & Foundation of Rockland County\nCommunity Ca
 lendar\nhttps://jewishrockland.org/calendar/art-auction-temple-beth-sholom
 -apr-9-183552\n\nTemple Beth Sholom will hold an Art Auction honoring memb
 ers Jon Bernstein\, Donna Sobel\, Bob Kurkela and Jerry Korn. Preview at 7
 :00pm\, Auction begins at 8:00pm. Admission is $18.00 per person\, $28.00 
 per couple.\nDoor Prize\, 50/50 Raffle\, Hors D'oeuvres\, Wine and Cheese\
 , Coffee and Dessert.\nFor tickets or Information contact Jessica Fetterma
 n at jbw1175@aol.com.\nSend check payment to Temple Beth Sholom 228 New He
 mpstead Road New City\, New York 10956\nMajor credit cards accepted for ar
 t pur...
DTSTART;TZID=America/New_York:20160409T190000
DTEND;TZID=America/New_York:20160409T220000
END:VEVENT
END:VCALENDAR
