BEGIN:VCALENDAR
PRODID:-//eluceo/ical//2.0/EN
VERSION:2.0
CALSCALE:GREGORIAN
BEGIN:VEVENT
UID:24868c7eb07c2ce99019221e928d6700
DTSTAMP:20260422T094749Z
SUMMARY:JCC Rockland Arts Book and Culture- Book\, The Bus on Jaffa Road
DESCRIPTION:Jewish Federation & Foundation of Rockland County\nCommunity Ca
 lendar\nhttps://jewishrockland.org/calendar/arts-book-and-culture-book-153
 658\n\nBook: The Bus On Jaffa Road (Mike Kelly) The Story of Middle East\n
 \nTerrorism and The Search For Justice\n\nVisit jccrockland.org for more i
 nformation\n\n 
DTSTART;TZID=America/New_York:20151110T190000
DTEND;TZID=America/New_York:20151110T210000
END:VEVENT
END:VCALENDAR
