BEGIN:VCALENDAR
PRODID:-//eluceo/ical//2.0/EN
VERSION:2.0
CALSCALE:GREGORIAN
BEGIN:VEVENT
UID:d5c84c98a6d7e2133254e9be196da478
DTSTAMP:20260423T214024Z
SUMMARY:Arts Festival & Craft Fair
DESCRIPTION:Jewish Federation & Foundation of Rockland County\nCommunity Ca
 lendar\nhttps://jewishrockland.org/calendar/arts-festival--craft-fair-1539
 898156\n\nNanuet Hebrew Center located off exit 10 on the Palisades Parkwa
 y @ 411 South Little Tor Road will be holding its 19th Arts & Crafts Festi
 val Sunday\, November 11 from 10:00 am – 5:00 pm. Admission is $7.00 and
  $5 if you mention Jewish Federation. Featured will be many gift items for
  the holidays. To display original artwork\, obtain a vendor invite or add
 itional information call 845-708-9181.
DTSTART;TZID=America/New_York:20181111T100000
DTEND;TZID=America/New_York:20181111T170000
END:VEVENT
END:VCALENDAR
