BEGIN:VCALENDAR
PRODID:-//eluceo/ical//2.0/EN
VERSION:2.0
CALSCALE:GREGORIAN
BEGIN:VEVENT
UID:894a54ae476267a05222e560a1e86522
DTSTAMP:20260420T071615Z
SUMMARY:Author Talks with David Saperstein
DESCRIPTION:Jewish Federation & Foundation of Rockland County\nCommunity Ca
 lendar\nhttps://jewishrockland.org/calendar/author-talks-with-david-sapers
 tein-1414081529-122618\n\nRockland Jewish Family Service presents Author T
 alks with David Saperstein.
DTSTART;TZID=America/New_York:20150322T100000
DTEND;TZID=America/New_York:20150322T120000
END:VEVENT
END:VCALENDAR
