BEGIN:VCALENDAR
PRODID:-//eluceo/ical//2.0/EN
VERSION:2.0
CALSCALE:GREGORIAN
BEGIN:VEVENT
UID:373c156abd71a343c32e7a5ad73630aa
DTSTAMP:20260423T203454Z
SUMMARY:Author Yardena Schwartz speaks about her book "Ghosts of a Holy War
 "
DESCRIPTION:Jewish Federation & Foundation of Rockland County\nCommunity Ca
 lendar\nhttps://jewishrockland.org/calendar/author-yardena-schwartz-speaks
 -about-her-book-ghosts-of-a-holy-war-1730987978\n\nAuthor Yardena Schwartz
  will speak about her book "Ghosts of a Holy War" including a book signing
  and refreshments. This event will be in person at the OJC and on zoom (zo
 om participation requires registration)
DTSTART;TZID=America/New_York:20241124T183000
DTEND;TZID=America/New_York:20241124T203000
END:VEVENT
END:VCALENDAR
