BEGIN:VCALENDAR
PRODID:-//eluceo/ical//2.0/EN
VERSION:2.0
CALSCALE:GREGORIAN
BEGIN:VEVENT
UID:bbc9e56389fa569d13fa66e0691cd7e1
DTSTAMP:20260419T180808Z
SUMMARY:Back to Young Judaea Camp Tel Yehudah Festival
DESCRIPTION:Jewish Federation & Foundation of Rockland County\nCommunity Ca
 lendar\nhttps://jewishrockland.org/calendar/back-to-young-judaea-camp-tel-
 yehudah-festival-1684887732\n\nBACK TO TY FESTIVAL (Everyone!)\nSunday\, A
 ugust 20th | 11:00am - 5:00pm (Gates Open @ 10:00am)\n\nTHE MAIN EVENT! Ge
 t back to Barryville with hundreds of other TYniks for an epic day of fest
 ivities\, including your favorite camp activities\, music performances\, a
  special TY history exhibit\, popular camp snacks and dishes\, opportuniti
 es to hear what’s in store on our ‘Road to 100’\, and so much more! 
 We hope you will all be able join us!\n\nREGULAR TICKET PRICES:\n\nAdult (
 18+) - $100 |...
DTSTART;TZID=America/New_York:20230820T093000
DTEND;TZID=America/New_York:20230820T170000
END:VEVENT
END:VCALENDAR
