BEGIN:VCALENDAR
PRODID:-//eluceo/ical//2.0/EN
VERSION:2.0
CALSCALE:GREGORIAN
BEGIN:VEVENT
UID:35895442dd7d1ae0fe7bc71d5fc62df7
DTSTAMP:20260425T104840Z
SUMMARY:Bake Rainbow Hamantaschen at CSI 
DESCRIPTION:Jewish Federation & Foundation of Rockland County\nCommunity Ca
 lendar\nhttps://jewishrockland.org/calendar/bake-rainbow-hamantaschen-at-c
 si-1422395201\n\nThursday\, February 26\, 6 p.m. Bake Rainbow Hamantaschen
  at CSI Sisterhood young and old are invited to learn how to make rainbow 
 hamantaschen. Followed by light dairy dinner. Cost: $5.00/person Congregat
 ion Sons of Israel\, 300 N. Broadway\, Upper Nyack\, NY 10960. For more in
 formation contact us at 845-358-3767 or csioffice@optonline.net
DTSTART;TZID=America/New_York:20150226T180000
DTEND;TZID=America/New_York:20150226T200000
END:VEVENT
END:VCALENDAR
