BEGIN:VCALENDAR
PRODID:-//eluceo/ical//2.0/EN
VERSION:2.0
CALSCALE:GREGORIAN
BEGIN:VEVENT
UID:48d04aede3cfb20931c9f9eacb280f2e
DTSTAMP:20260420T205458Z
SUMMARY:Beatles Rock Shabbat at The Reform Temple of Rockland
DESCRIPTION:Jewish Federation & Foundation of Rockland County\nCommunity Ca
 lendar\nhttps://jewishrockland.org/calendar/beatles-rock-shabbat-at-the-re
 form-temple-of-rockland-1681242069\n\nThe Reform Temple of Rockland's annu
 al Beatles Rock Shabbat promises to be a fantastic\, creative\, unforgetta
 ble Shabbat celebration. Come enjoy Shabbat with us!
DTSTART;TZID=America/New_York:20230519T193000
DTEND;TZID=America/New_York:20230519T213000
END:VEVENT
END:VCALENDAR
