BEGIN:VCALENDAR
PRODID:-//eluceo/ical//2.0/EN
VERSION:2.0
CALSCALE:GREGORIAN
BEGIN:VEVENT
UID:4505edc480af1b441bda3c0b7d6992c3
DTSTAMP:20260419T224522Z
SUMMARY:Bergen County Supports the Holocaust Museum  Welcome and Luncheon
DESCRIPTION:Jewish Federation & Foundation of Rockland County\nCommunity Ca
 lendar\nhttps://jewishrockland.org/calendar/bergen-county-supports-the-hol
 ocaust-museum--welcome-and-luncheon-2018\n\nRockland County Ambassadors gr
 eet Museum supports from Bergen County
DTSTART;TZID=America/New_York:20181012T110000
DTEND;TZID=America/New_York:20181012T130000
END:VEVENT
END:VCALENDAR
