BEGIN:VCALENDAR
PRODID:-//eluceo/ical//2.0/EN
VERSION:2.0
CALSCALE:GREGORIAN
BEGIN:VEVENT
UID:96b6366c61a66e1c24fb1884d55ccbb6
DTSTAMP:20260422T145205Z
SUMMARY:Beth Am Temple Group Naming Ceremony
DESCRIPTION:Jewish Federation & Foundation of Rockland County\nCommunity Ca
 lendar\nhttps://jewishrockland.org/calendar/beth-am-group-naming-ceremony-
 1418081172-127779\n\nAny Jewish child or adult who\, for whatever reason\,
  does not have a Hebrew name will receive one at this service (as long as 
 you contact Rabbi Pernick by January 6). Our service also features install
 ation of our new Board of Governance for 2015.
DTSTART;TZID=America/New_York:20150109T200000
DTEND;TZID=America/New_York:20150109T211500
END:VEVENT
END:VCALENDAR
