BEGIN:VCALENDAR
PRODID:-//eluceo/ical//2.0/EN
VERSION:2.0
CALSCALE:GREGORIAN
BEGIN:VEVENT
UID:67179ad738ddaa710b65f1a55584ea23
DTSTAMP:20260425T001518Z
SUMMARY:Beth Am Hosts Sunday Bingo In 2016
DESCRIPTION:Jewish Federation & Foundation of Rockland County\nCommunity Ca
 lendar\nhttps://jewishrockland.org/calendar/beth-am-hosts-sunday-bingo-in-
 2016-1453860187-179449\n\nBeth Am Temple in Pearl River hosts Bingo  usual
 ly two Sunday nights each month throughout 2016.  The Bingo games are open
  to the public.\n\n
DTSTART;TZID=America/New_York:20160313T190000
DTEND;TZID=America/New_York:20160313T210000
END:VEVENT
END:VCALENDAR
