BEGIN:VCALENDAR
PRODID:-//eluceo/ical//2.0/EN
VERSION:2.0
CALSCALE:GREGORIAN
BEGIN:VEVENT
UID:efd3e903ff0221d17d292e647fba7a7c
DTSTAMP:20260424T073524Z
SUMMARY:Beth Am Temple Celebrates High Holy Days With Virtual Services
DESCRIPTION:Jewish Federation & Foundation of Rockland County\nCommunity Ca
 lendar\nhttps://jewishrockland.org/calendar/beth-am-temple-celebrates-high
 -holy-days-with-virtual-services-1599683238\n\nBeth Am Temple In Pearl Riv
 er Will Observe The High Holy Days With Virtual Services
DTSTART;TZID=America/New_York:20200918T193000
DTEND;TZID=America/New_York:20200918T193000
END:VEVENT
END:VCALENDAR
