BEGIN:VCALENDAR
PRODID:-//eluceo/ical//2.0/EN
VERSION:2.0
CALSCALE:GREGORIAN
BEGIN:VEVENT
UID:49c4f1dfd81a4030a00098bc82569ac4
DTSTAMP:20260421T053125Z
SUMMARY:Beth Am Temple Hosts Annual Pearl River Interfaith Thanksgiving Ser
 vice
DESCRIPTION:Jewish Federation & Foundation of Rockland County\nCommunity Ca
 lendar\nhttps://jewishrockland.org/calendar/beth-am-temple-hosts-annual-pe
 arl-river-interfaith-thanksgiving-service-1731952997\n\nBeth Am Temple is 
 hosting the Pearl River community's annual  Interfaith Thanksgiving servic
 e on Monday\, November 25.
DTSTART;TZID=America/New_York:20241125T191500
DTEND;TZID=America/New_York:20241125T200000
END:VEVENT
END:VCALENDAR
