BEGIN:VCALENDAR
PRODID:-//eluceo/ical//2.0/EN
VERSION:2.0
CALSCALE:GREGORIAN
BEGIN:VEVENT
UID:db45a7fc6c801ec42b55d631e06d097d
DTSTAMP:20260419T204942Z
SUMMARY:Beth Am Temple Hosts Pearl River Interfaith Thanksgiving Service
DESCRIPTION:Jewish Federation & Foundation of Rockland County\nCommunity Ca
 lendar\nhttps://jewishrockland.org/calendar/beth-am-temple-hosts-pearl-riv
 er-interfaith-thanksgiving-service-1762463351\n\nBeth Am Temple will host 
 the annual  Interfaith Thanksgiving service with other Pearl River-based h
 ouses of worship on Monday\, November 24.
DTSTART;TZID=America/New_York:20251124T191500
DTEND;TZID=America/New_York:20251124T201500
END:VEVENT
END:VCALENDAR
