BEGIN:VCALENDAR
PRODID:-//eluceo/ical//2.0/EN
VERSION:2.0
CALSCALE:GREGORIAN
BEGIN:VEVENT
UID:80b55eb2e0edf949e2d441e11ca4e536
DTSTAMP:20260423T223424Z
SUMMARY:Beth Am Temple Hosts Interfaith Thanksgiving Service
DESCRIPTION:Jewish Federation & Foundation of Rockland County\nCommunity Ca
 lendar\nhttps://jewishrockland.org/calendar/beth-am-temple-interfaith-than
 ksgiving-service-2016\n\nBeth Am Temple is hosting the annual Interfaith T
 hanksgiving service with other Pearl River houses of worship on Monday\, N
 ov. 21 at 7:30 pm. The more than 35-year tradition includes clergy and con
 gregants from Pearl River United Methodist Church\, St. Stephen's Episcopa
 l Church\, The River Church\, Good Shepherd Lutheran Church and Beth Am Te
 mple. The hour-long service is led by clergy and choir from the attending 
 congregations\, which also take turns hosting the yearly program. The serv
 ice is op...
DTSTART;TZID=America/New_York:20161121T193000
DTEND;TZID=America/New_York:20161121T203000
END:VEVENT
END:VCALENDAR
