BEGIN:VCALENDAR
PRODID:-//eluceo/ical//2.0/EN
VERSION:2.0
CALSCALE:GREGORIAN
BEGIN:VEVENT
UID:7e52b33d6e903307c61ff611e45c1337
DTSTAMP:20260419T184417Z
SUMMARY:Beth Am Temple Religious School Classes
DESCRIPTION:Jewish Federation & Foundation of Rockland County\nCommunity Ca
 lendar\nhttps://jewishrockland.org/calendar/beth-am-temple-religious-schoo
 l-classes-1694024575\n\nHebrew school classes for kindergarten through sev
 enth grade are held on Sundays and Tuesdays
DTSTART;TZID=America/New_York:20230910T090000
DTEND;TZID=America/New_York:20230910T110000
END:VEVENT
END:VCALENDAR
