BEGIN:VCALENDAR
PRODID:-//eluceo/ical//2.0/EN
VERSION:2.0
CALSCALE:GREGORIAN
BEGIN:VEVENT
UID:94d27b5fe982f0e8351cf34b1e129b53
DTSTAMP:20260420T044000Z
SUMMARY:Beth Am Temple Welcomes Sukkot with New Sukkah
DESCRIPTION:Jewish Federation & Foundation of Rockland County\nCommunity Ca
 lendar\nhttps://jewishrockland.org/calendar/beth-am-temple-welcomes-sukkot
 -with-new-sukkah-1506960427\n\nBeth Am Temple’s celebration of the Sukko
 t harvest season begins with installation of its new\, larger outdoor Sukk
 ah.  
DTSTART;TZID=America/New_York:20171004T190000
DTEND;TZID=America/New_York:20171004T210000
END:VEVENT
END:VCALENDAR
