BEGIN:VCALENDAR
PRODID:-//eluceo/ical//2.0/EN
VERSION:2.0
CALSCALE:GREGORIAN
BEGIN:VEVENT
UID:31bb694f6c3364f6399c4120e23dca4a
DTSTAMP:20260425T223159Z
SUMMARY:Bethlehem: JCC Rockland Jewish Film Festival
DESCRIPTION:Jewish Federation & Foundation of Rockland County\nCommunity Ca
 lendar\nhttps://jewishrockland.org/calendar/bethlehem-jcc-rockland-jewish-
 film-festival\n\nJCC Rockland Jewish Film Festival -- Nominated for 12 Isr
 aeli Academy Awards\, BETHLEHEM garnered wins for Best Film\, Best Directo
 r\, Best Actor\, Best Supporting Actor and Best Editing.
DTSTART;TZID=America/New_York:20140322T210000
DTEND;TZID=America/New_York:20140322T233000
END:VEVENT
END:VCALENDAR
