BEGIN:VCALENDAR
PRODID:-//eluceo/ical//2.0/EN
VERSION:2.0
CALSCALE:GREGORIAN
BEGIN:VEVENT
UID:857ed2bd33a1d463645fc222d1578512
DTSTAMP:20260424T202445Z
SUMMARY:Bim Bam Shabbat with PJ Library & Camp Ramah
DESCRIPTION:Jewish Federation & Foundation of Rockland County\nCommunity Ca
 lendar\nhttps://jewishrockland.org/calendar/bim-bam-shabbat-pj-library-cam
 p-ramah-147732\n\nToddlers and Preschoolers too young for summer camp can 
 still enjoy a camp experience this summer. PJ Library in Rockland County a
 nd Ramah Day Camp in Nyack will be co-hosting FREE Friday morning programs
  with Shabbat-related songs\, stories\, and Jewish activities. Each sessio
 n ends with grape juice and challah. All young families are welcome!\n\nHe
 ld every Friday Morning at 9:30 am from July 10th – August 14th.\n\nFor 
 more information contact Lara Epstein: lepstein@jewishrockland.org or cal.
 ..
DTSTART;TZID=America/New_York:20150710T093000
DTEND;TZID=America/New_York:20150710T103000
END:VEVENT
END:VCALENDAR
