BEGIN:VCALENDAR
PRODID:-//eluceo/ical//2.0/EN
VERSION:2.0
CALSCALE:GREGORIAN
BEGIN:VEVENT
UID:8f43f1ec5f48dde798c6374be9a97fc0
DTSTAMP:20260423T191530Z
SUMMARY:Blood Drive
DESCRIPTION:Jewish Federation & Foundation of Rockland County\nCommunity Ca
 lendar\nhttps://jewishrockland.org/calendar/blood-drive-1547480398\n\nBloo
 d Drive
DTSTART;TZID=America/New_York:20190121T100000
DTEND;TZID=America/New_York:20190121T160000
END:VEVENT
END:VCALENDAR
