BEGIN:VCALENDAR
PRODID:-//eluceo/ical//2.0/EN
VERSION:2.0
CALSCALE:GREGORIAN
BEGIN:VEVENT
UID:034f2a75e02194d6d5722eca42b20809
DTSTAMP:20260423T035941Z
SUMMARY:Bob Dylan Musical Shabbat
DESCRIPTION:Jewish Federation & Foundation of Rockland County\nCommunity Ca
 lendar\nhttps://jewishrockland.org/calendar/bob-dylan-musical-shabbat\n\nT
 he music of Bob Dylan is the inspiration for this year's Cantor's Music Sh
 abbat. Join us for an inspiring and creative service\, combining Shabbat a
 nd Dylan.
DTSTART;TZID=America/New_York:20170519T200000
DTEND;TZID=America/New_York:20170519T213000
END:VEVENT
END:VCALENDAR
