BEGIN:VCALENDAR
PRODID:-//eluceo/ical//2.0/EN
VERSION:2.0
CALSCALE:GREGORIAN
BEGIN:VEVENT
UID:28093eb3215c7e68c8231555c5951f7c
DTSTAMP:20260422T170708Z
SUMMARY:Book Talk and Signing: The Borscht Belt
DESCRIPTION:Jewish Federation & Foundation of Rockland County\nCommunity Ca
 lendar\nhttps://jewishrockland.org/calendar/book-talk-and-signing-the-bors
 cht-belt-1492614055-227901\n\nTake a look at what the abandoned hotels of 
 the Borscht Belt look like now.
DTSTART;TZID=America/New_York:20170429T120000
DTEND;TZID=America/New_York:20170429T130000
END:VEVENT
END:VCALENDAR
