BEGIN:VCALENDAR
PRODID:-//eluceo/ical//2.0/EN
VERSION:2.0
CALSCALE:GREGORIAN
BEGIN:VEVENT
UID:999b66526d4f624a7b4775581a7cd39d
DTSTAMP:20260420T040114Z
SUMMARY:Boulders Baseball Game and Fireworks Extravaganza with CSI\, Nyack
DESCRIPTION:Jewish Federation & Foundation of Rockland County\nCommunity Ca
 lendar\nhttps://jewishrockland.org/calendar/boulders-baseball-fireworks-cs
 i-nyack\n\nBoulders Baseball Game and Fireworks Extravaganza\, Thursday\, 
 August 11– 7 p.m.\nCongregation Sons of Israel\n300 North Broadway\, Upp
 er Nyack\, NY 10960\nJoin CSI Men’s Club and root for the Rockland Bould
 ers vs the Trois-Rivieres Eagles at Provident Bank Park\, One Pomona Drive
 \, Pomona\, NY. After then game there will be a Fireworks Extravaganza. Ti
 ckets are $18 per person. Last day to purchase tickets is Aug. 8.\nFor mor
 e information contact Jon at 845-300-0215\, or Helaine at 845-348-3767 o..
 .
DTSTART;TZID=America/New_York:20160811T190000
DTEND;TZID=America/New_York:20160811T220000
END:VEVENT
END:VCALENDAR
