BEGIN:VCALENDAR
PRODID:-//eluceo/ical//2.0/EN
VERSION:2.0
CALSCALE:GREGORIAN
BEGIN:VEVENT
UID:02f4795b839488897dcd9e9400e29799
DTSTAMP:20260424T140702Z
SUMMARY:Boutique Day at the J
DESCRIPTION:Jewish Federation & Foundation of Rockland County\nCommunity Ca
 lendar\nhttps://jewishrockland.org/calendar/boutique-day-at-the-j-15391975
 67\n\nSample the very best in boutique fitness all under one roof! We will
  be running a huge variety of demo classes for you to sample and see what 
 style  best fits your needs. Demos will take place in Studio 450\, and oth
 er fitness spaces within JCC Rockland--including our Pilates Studio\, Fitn
 ess and Wellness Center\, Indoor Cycling Studio\, and Mind Body Studio. Wh
 ether you are a newbie or seasoned exerciser--you will find the right fit!
 \n
DTSTART;TZID=America/New_York:20190127T080000
DTEND;TZID=America/New_York:20190127T100000
END:VEVENT
END:VCALENDAR
