BEGIN:VCALENDAR
PRODID:-//eluceo/ical//2.0/EN
VERSION:2.0
CALSCALE:GREGORIAN
BEGIN:VEVENT
UID:d0ac801261c72e3a3bd2b4ef968e5e1d
DTSTAMP:20260424T213317Z
SUMMARY:Breakfast with Rabbi Pernick
DESCRIPTION:Jewish Federation & Foundation of Rockland County\nCommunity Ca
 lendar\nhttps://jewishrockland.org/calendar/breakfast-with-rabbi-pernick-1
 2-10-17\n\nOur second "Breakfast With The Rabbi" explores "Responsa:  Toug
 h Questions Jews Ask Their Rabbis."\nLast sessions questions dealt with ca
 nnibalism\, writing out "G-O-D"\, errors during a Torah blessing and Judai
 sm's view of when life begins.\n\nBring in cans of tuna for the hungry\, b
 ut no other charge if you RSVP to bethamtempleinpearlriver@gmail.com
DTSTART;TZID=America/New_York:20171210T091500
DTEND;TZID=America/New_York:20171210T104500
END:VEVENT
END:VCALENDAR
